BEGIN:VCALENDAR
VERSION:2.0
PRODID:-//ChamberMaster//Event Calendar 2.0//EN
METHOD:PUBLISH
X-PUBLISHED-TTL:P3D
REFRESH-INTERVAL:P3D
CALSCALE:GREGORIAN
BEGIN:VEVENT
DTSTART:20251008T173000Z
DTEND:20251008T190000Z
X-MICROSOFT-CDO-ALLDAYEVENT:FALSE
SUMMARY:Part 1: Make Your Holiday Sparkle with Intro to Social Media Platforms & Holiday Strategies
DESCRIPTION:In this first session\, you'll learn how to navigate the vast world of social media and identify the platforms that best suit your small business. We'll cover essential strategies for increasing foot traffic and leveraging the holiday season to boost your brand's visibility. What to expect: A brief intro to Facebook\, Instagram\, TikTok\, YouTube\, and LinkedIn How to choose the right platform(s) for your business Using social media to drive more foot traffic to your business The power of holiday giveaways and why they work
X-ALT-DESC;FMTTYPE=text/html:In this first session\, you&rsquo\;ll learn how to navigate the vast world of social media and identify the platforms that best suit your small business. We&rsquo\;ll cover essential strategies for increasing foot traffic and leveraging the holiday season to boost your brand&rsquo\;s visibility. What to expect: A brief intro to Facebook\, Instagram\, TikTok\, YouTube\, and LinkedIn How to choose the right platform(s) for your business Using social media to drive more foot traffic to your business The power of holiday giveaways and why they work
LOCATION:Online Via Zoom
UID:e.815.37320
SEQUENCE:3
DTSTAMP:20260421T083401Z
URL:https://business.southcountychambers.com/events/details/part-1-make-your-holiday-sparkle-with-intro-to-social-media-platforms-holiday-strategies-37320
END:VEVENT

END:VCALENDAR
