BEGIN:VCALENDAR
VERSION:2.0
PRODID:-//ChamberMaster//Event Calendar 2.0//EN
METHOD:PUBLISH
X-PUBLISHED-TTL:P3D
REFRESH-INTERVAL:P3D
CALSCALE:GREGORIAN
BEGIN:VEVENT
DTSTART:20230116T230000Z
DTEND:20230117T020000Z
X-MICROSOFT-CDO-ALLDAYEVENT:FALSE
SUMMARY:DRUMLine Live!
DESCRIPTION:Two shows 3:00pm & 7:30pm for Martin Luther King Jr. Day Complete with dazzling choreography and explosive percussion\, DRUMLine Live! is a thrilling spectacle that pays homage to the show-style marching popularized at historically black colleges and universities\, while providing a soul-stirring revue of some of America's favorite music. With musical highlights from hip-hop\, Top 40 (including Michael Jackson and Prince)\, American soul\, gospel\, jazz\, big band and other musical genres\, the 30-member cast   a world-class ensemble of percussionists\, musicians and dancers   takes the audience on a journey infused with colorful\, choreographed routines\, vibrant costumes\, and heavy doses of drum riffs and cadences. Created by the musical team behind 20th Century Fox's hit movies "Drumline" (now celebrating its 20th Anniversary) and "Drumline: A New Beat\," this show-stopping attraction has already paraded onto some of the biggest theatre stages in America\, Japan\, and Korea. Be prepared to laugh\, sing\, dance\, and cry because DRUMLine Live! is a high-octane musical roller coaster ride that will hit every emotion in your body.
X-ALT-DESC;FMTTYPE=text/html:Two shows 3:00pm &amp\; 7:30pm for Martin Luther King Jr. Day Complete with dazzling choreography and explosive percussion\, DRUMLine Live! is a thrilling spectacle that pays homage to the show-style marching popularized at historically black colleges and universities\, while providing a soul-stirring revue of some of America&rsquo\;s favorite music. With musical highlights from hip-hop\, Top 40 (including Michael Jackson and Prince)\, American soul\, gospel\, jazz\, big band and other musical genres\, the 30-member cast &mdash\; a world-class ensemble of percussionists\, musicians and dancers &mdash\; takes the audience on a journey infused with colorful\, choreographed routines\, vibrant costumes\, and heavy doses of drum riffs and cadences. Created by the musical team behind 20th Century Fox&rsquo\;s hit movies &ldquo\;Drumline&rdquo\; (now celebrating its 20th Anniversary) and &ldquo\;Drumline: A New Beat\,&rdquo\; this show-stopping attraction has already paraded onto some of the biggest theatre stages in America\, Japan\, and Korea. Be prepared to laugh\, sing\, dance\, and cry because DRUMLine Live! is a high-octane musical roller coaster ride that will hit every emotion in your body.
LOCATION:The Clark Center for the Performing Arts
UID:e.815.35673
SEQUENCE:3
DTSTAMP:20260424T135936Z
URL:https://business.southcountychambers.com/events/details/drumline-live-35673
END:VEVENT

END:VCALENDAR
