BEGIN:VCALENDAR
VERSION:2.0
PRODID:-//ChamberMaster//Event Calendar 2.0//EN
METHOD:PUBLISH
X-PUBLISHED-TTL:P3D
REFRESH-INTERVAL:P3D
CALSCALE:GREGORIAN
BEGIN:VEVENT
DTSTART:20260210T180000Z
DTEND:20260210T190000Z
X-MICROSOFT-CDO-ALLDAYEVENT:FALSE
SUMMARY:BEYOND CHATGPT: Choosing & Using the Best AI for You
DESCRIPTION:BEYOND CHATGPT helps you compare\, evaluate\, and choose the AI tools that genuinely fit your needs or those of your organization. The emphasis is clarity. You'll learn how to look past the hype\, understand key differences among tools\, and match the right AI to the right task. This session builds on the skills you gained in EVERYDAY AI and opens the door to a broader world of possibilities.\n\n\n	1-hour session   virtual format\n	Tool comparisons   see how different AI tools stack up\n	Personal AI mix   build your own curated toolkit\n	Q&A included   get your specific questions answered
X-ALT-DESC;FMTTYPE=text/html:<p>BEYOND CHATGPT helps you compare\, evaluate\, and choose the AI tools that genuinely fit your needs or those of your organization. The emphasis is clarity. You&#39\;ll learn how to look past the hype\, understand key differences among tools\, and match the right AI to the right task. This session builds on the skills you gained in EVERYDAY AI and opens the door to a broader world of possibilities.</p>\n\n<ul>\n	<li>1-hour session&nbsp\;&mdash\; virtual format</li>\n	<li>Tool comparisons&nbsp\;&mdash\; see how different AI tools stack up</li>\n	<li>Personal AI mix&nbsp\;&mdash\; build your own curated toolkit</li>\n	<li>Q&amp\;A included&nbsp\;&mdash\; get your specific questions answered</li>\n</ul>\n
LOCATION:Virtual
UID:e.815.37544
SEQUENCE:3
DTSTAMP:20260421T092556Z
URL:https://business.southcountychambers.com/events/details/beyond-chatgpt-choosing-using-the-best-ai-for-you-37544
END:VEVENT

END:VCALENDAR
