BEGIN:VCALENDAR
VERSION:2.0
PRODID:-//ChamberMaster//Event Calendar 2.0//EN
METHOD:PUBLISH
X-PUBLISHED-TTL:P3D
REFRESH-INTERVAL:P3D
CALSCALE:GREGORIAN
BEGIN:VEVENT
DTSTART:20260514T210000Z
DTEND:20260514T223000Z
X-MICROSOFT-CDO-ALLDAYEVENT:FALSE
SUMMARY:BEYOND CHATGPT: Choosing & Using the Best AI for You
DESCRIPTION:BEYOND CHATGPT helps you compare\, evaluate\, and choose the AI tools that genuinely fit your needs or those of your organization. The emphasis is clarity. You'll learn how to look past the hype\, understand key differences among tools\, and match the right AI to the right task. This session builds on the skills you gained in EVERYDAY AI and opens the door to a broader world of possibilities. 90-minute Google Meet session Tool comparisons   see how different AI tools stack up Personal AI mix   build your own curated toolkit Q&A included   get your specific questions answered
X-ALT-DESC;FMTTYPE=text/html:BEYOND CHATGPT helps you compare\, evaluate\, and choose the AI tools that genuinely fit your needs or those of your organization. The emphasis is clarity. You&#39\;ll learn how to look past the hype\, understand key differences among tools\, and match the right AI to the right task. This session builds on the skills you gained in EVERYDAY AI and opens the door to a broader world of possibilities. 90-minute Google Meet session Tool comparisons &mdash\; see how different AI tools stack up Personal AI mix &mdash\; build your own curated toolkit Q&amp\;A included &mdash\; get your specific questions answered
LOCATION:This is a virtual session. A Google Meet link will be sent to all registrants.
UID:e.815.37650
SEQUENCE:3
DTSTAMP:20260421T081832Z
URL:https://business.southcountychambers.com/events/details/beyond-chatgpt-choosing-using-the-best-ai-for-you-05-14-2026-37650
END:VEVENT

END:VCALENDAR
