BEGIN:VCALENDAR
VERSION:2.0
PRODID:-//ChamberMaster//Event Calendar 2.0//EN
METHOD:PUBLISH
X-PUBLISHED-TTL:P3D
REFRESH-INTERVAL:P3D
CALSCALE:GREGORIAN
BEGIN:VEVENT
DTSTART:20260508T023000Z
DTEND:20260508T040000Z
X-MICROSOFT-CDO-ALLDAYEVENT:FALSE
SUMMARY:An Evening With Jim Messina
DESCRIPTION:An undisputed expert in the fine art of making hit music\, Jim Messina's legacy of musical genius spans five decades\, three super groups\, a vibrant solo career and scores of producing and engineering credits. After a series of celebrated solo acoustic tours\, Jim formed a band made of acclaimed musicians who have played with him at various points in his career. Touring the country and playing sold-out shows\, Jim says that he's enjoying discovering who he is\, where he's been and\, most significantly\, where he's going.
X-ALT-DESC;FMTTYPE=text/html:An undisputed expert in the fine art of making hit music\, Jim Messina&rsquo\;s legacy of musical genius spans five decades\, three super groups\, a vibrant solo career and scores of producing and engineering credits. After a series of celebrated solo acoustic tours\, Jim formed a band made of acclaimed musicians who have played with him at various points in his career. Touring the country and playing sold-out shows\, Jim says that he&rsquo\;s enjoying discovering who he is\, where he&rsquo\;s been and\, most significantly\, where he&rsquo\;s going.
LOCATION:Clark Center for the Performing Arts 487 Fair Oaks Ave Arroyo Grande CA
UID:e.815.37525
SEQUENCE:3
DTSTAMP:20260421T082746Z
URL:https://business.southcountychambers.com/events/details/an-evening-with-jim-messina-37525
END:VEVENT

END:VCALENDAR
