BEGIN:VCALENDAR
VERSION:2.0
PRODID:-//ChamberMaster//Event Calendar 2.0//EN
METHOD:PUBLISH
X-PUBLISHED-TTL:P3D
REFRESH-INTERVAL:P3D
CALSCALE:GREGORIAN
BEGIN:VEVENT
DTSTART:20260527T233000Z
DTEND:20260528T020000Z
X-MICROSOFT-CDO-ALLDAYEVENT:FALSE
SUMMARY:After Hours Business Showcase
DESCRIPTION:Showcase your business\, build connections\, and generate new leads at our After Hours Business Showcase!\n\nThis high-visibility\, expo-style event is designed to give local businesses like yours a platform to promote your products and services in a fun\, after-hours setting. As an exhibitor\, you'll have the opportunity to engage directly with attendees\, share your story\, and create meaningful connections with fellow business professionals and community members.\n\nThis is your chance to:\n\n\n	Increase brand awareness within the South County business community\n	Connect face-to-face with potential customers and partners\n	Highlight what makes your business unique\n	Build relationships that drive future growth\n\n\nBring your marketing materials\, product samples\, giveaways\, and your best team members this is your moment to shine!\n\nSpace is limited\, so reserve your exhibitor spot today and put your business in the spotlight.
X-ALT-DESC;FMTTYPE=text/html:<p data-end="238" data-start="135">Showcase your business\, build connections\, and generate new leads at our After Hours Business Showcase!</p>\n\n<p data-end="596" data-start="240">This high-visibility\, expo-style event is designed to give local businesses like yours a platform to promote your products and services in a fun\, after-hours setting. As an exhibitor\, you&rsquo\;ll have the opportunity to engage directly with attendees\, share your story\, and create meaningful connections with fellow business professionals and community members.</p>\n\n<p data-end="621" data-start="598">This is your chance to:</p>\n\n<ul data-end="851" data-start="622">\n	<li data-end="693" data-section-id="1jf89m" data-start="622">Increase brand awareness within the South County business community</li>\n	<li data-end="756" data-section-id="1mqe7dq" data-start="694">Connect face-to-face with potential customers and partners</li>\n	<li data-end="802" data-section-id="1989oh3" data-start="757">Highlight what makes your business unique</li>\n	<li data-end="851" data-section-id="10pzovs" data-start="803">Build relationships that drive future growth</li>\n</ul>\n\n<p data-end="969" data-start="853">Bring your marketing materials\, product samples\, giveaways\, and your best team members&mdash\;this is your moment to shine!</p>\n\n<p data-end="1069" data-start="971"><strong data-end="1069" data-start="971">Space is limited\, so reserve your exhibitor spot today and put your business in the spotlight.</strong></p>\n
LOCATION:South County Regional Center
UID:e.815.37691
SEQUENCE:3
DTSTAMP:20260422T221958Z
URL:https://business.southcountychambers.com/events/details/after-hours-business-showcase-37691
END:VEVENT

END:VCALENDAR
