BEGIN:VCALENDAR
VERSION:2.0
PRODID:-//ChamberMaster//Event Calendar 2.0//EN
METHOD:PUBLISH
X-PUBLISHED-TTL:P3D
REFRESH-INTERVAL:P3D
CALSCALE:GREGORIAN
BEGIN:VEVENT
DTSTART;VALUE=DATE:20220923
DTEND;VALUE=DATE:20220924
TRANSP:TRANSPARENT
X-MICROSOFT-CDO-ALLDAYEVENT:TRUE
SUMMARY:2022 Arroyo Grande Valley Harvest Festival
DESCRIPTION:83rd Annual Arroyo Grande Valley Harvest Festival\n\nThe theme this year is Community Together
X-ALT-DESC;FMTTYPE=text/html:83rd Annual Arroyo Grande Valley Harvest Festival<br />\nThe theme this year is Community Together
LOCATION:
UID:e.815.35524
SEQUENCE:3
DTSTAMP:20260424T181941Z
URL:https://business.southcountychambers.com/events/details/2022-arroyo-grande-valley-harvest-festival-35524
END:VEVENT

END:VCALENDAR
